BEGIN:VCALENDAR
VERSION:2.0
PRODID:-//Porkkalan lukio - ECPv6.15.20//NONSGML v1.0//EN
CALSCALE:GREGORIAN
METHOD:PUBLISH
X-WR-CALNAME:Porkkalan lukio
X-ORIGINAL-URL:https://www.porkkalanlukio.fi
X-WR-CALDESC:Tapahtumat Porkkalan lukio
REFRESH-INTERVAL;VALUE=DURATION:PT1H
X-Robots-Tag:noindex
X-PUBLISHED-TTL:PT1H
BEGIN:VTIMEZONE
TZID:Europe/Helsinki
BEGIN:DAYLIGHT
TZOFFSETFROM:+0200
TZOFFSETTO:+0300
TZNAME:EEST
DTSTART:20240331T010000
END:DAYLIGHT
BEGIN:STANDARD
TZOFFSETFROM:+0300
TZOFFSETTO:+0200
TZNAME:EET
DTSTART:20241027T010000
END:STANDARD
BEGIN:DAYLIGHT
TZOFFSETFROM:+0200
TZOFFSETTO:+0300
TZNAME:EEST
DTSTART:20250330T010000
END:DAYLIGHT
BEGIN:STANDARD
TZOFFSETFROM:+0300
TZOFFSETTO:+0200
TZNAME:EET
DTSTART:20251026T010000
END:STANDARD
BEGIN:DAYLIGHT
TZOFFSETFROM:+0200
TZOFFSETTO:+0300
TZNAME:EEST
DTSTART:20260329T010000
END:DAYLIGHT
BEGIN:STANDARD
TZOFFSETFROM:+0300
TZOFFSETTO:+0200
TZNAME:EET
DTSTART:20261025T010000
END:STANDARD
END:VTIMEZONE
BEGIN:VEVENT
DTSTART;TZID=Europe/Helsinki:20250530T100000
DTEND;TZID=Europe/Helsinki:20250530T133000
DTSTAMP:20260425T152521
CREATED:20250527T080558Z
LAST-MODIFIED:20250527T080558Z
UID:9481-1748599200-1748611800@www.porkkalanlukio.fi
SUMMARY:Kesälomaan vastaanottaminen
DESCRIPTION:– 10-11.20 pesistä tekonurmella\n– 11:30 ro-tunti ykkösille ja kakkosille\n– 12:05-12:45 ruokailu\, Porkkalan lukio vain punaisessa ruokalassa\n– 12:45 lukuvuoden päätösjuhla/kevätlaulajaiset D-salissa\, kesto enintään 45 min
URL:https://www.porkkalanlukio.fi/tapahtuma/kesalomaan-vastaanottaminen/
END:VEVENT
BEGIN:VEVENT
DTSTART;TZID=Europe/Helsinki:20250530T150000
DTEND;TZID=Europe/Helsinki:20250530T163000
DTSTAMP:20260425T152521
CREATED:20250124T083848Z
LAST-MODIFIED:20250124T083848Z
UID:9199-1748617200-1748622600@www.porkkalanlukio.fi
SUMMARY:Lakkiaisharjoitus
DESCRIPTION:Lakki mukaan nimellä varustettuna
URL:https://www.porkkalanlukio.fi/tapahtuma/lakkiaisharjoitus-2/
END:VEVENT
END:VCALENDAR