BEGIN:VCALENDAR
VERSION:2.0
PRODID:-//Porkkalan lukio - ECPv6.15.20//NONSGML v1.0//EN
CALSCALE:GREGORIAN
METHOD:PUBLISH
X-ORIGINAL-URL:https://www.porkkalanlukio.fi
X-WR-CALDESC:Tapahtumat Porkkalan lukio
REFRESH-INTERVAL;VALUE=DURATION:PT1H
X-Robots-Tag:noindex
X-PUBLISHED-TTL:PT1H
BEGIN:VTIMEZONE
TZID:Europe/Helsinki
BEGIN:DAYLIGHT
TZOFFSETFROM:+0200
TZOFFSETTO:+0300
TZNAME:EEST
DTSTART:20250330T010000
END:DAYLIGHT
BEGIN:STANDARD
TZOFFSETFROM:+0300
TZOFFSETTO:+0200
TZNAME:EET
DTSTART:20251026T010000
END:STANDARD
BEGIN:DAYLIGHT
TZOFFSETFROM:+0200
TZOFFSETTO:+0300
TZNAME:EEST
DTSTART:20260329T010000
END:DAYLIGHT
BEGIN:STANDARD
TZOFFSETFROM:+0300
TZOFFSETTO:+0200
TZNAME:EET
DTSTART:20261025T010000
END:STANDARD
BEGIN:DAYLIGHT
TZOFFSETFROM:+0200
TZOFFSETTO:+0300
TZNAME:EEST
DTSTART:20270328T010000
END:DAYLIGHT
BEGIN:STANDARD
TZOFFSETFROM:+0300
TZOFFSETTO:+0200
TZNAME:EET
DTSTART:20271031T010000
END:STANDARD
END:VTIMEZONE
BEGIN:VEVENT
DTSTART;TZID=Europe/Helsinki:20260205T081500
DTEND;TZID=Europe/Helsinki:20260205T103000
DTSTAMP:20260424T165851
CREATED:20250922T062816Z
LAST-MODIFIED:20250922T062816Z
UID:9808-1770279300-1770287400@www.porkkalanlukio.fi
SUMMARY:Penkkarit
DESCRIPTION:
URL:https://www.porkkalanlukio.fi/tapahtuma/penkkarit-3/
END:VEVENT
BEGIN:VEVENT
DTSTART;TZID=Europe/Helsinki:20260205T180000
DTEND;TZID=Europe/Helsinki:20260205T200000
DTSTAMP:20260424T165851
CREATED:20250922T063009Z
LAST-MODIFIED:20260126T115142Z
UID:9810-1770314400-1770321600@www.porkkalanlukio.fi
SUMMARY:Wanhojen tanssit läheisille
DESCRIPTION:
URL:https://www.porkkalanlukio.fi/tapahtuma/wanhojen-tanssit-laheisille/
END:VEVENT
END:VCALENDAR