BEGIN:VCALENDAR
VERSION:2.0
PRODID:-//Porkkalan lukio - ECPv6.15.20//NONSGML v1.0//EN
CALSCALE:GREGORIAN
METHOD:PUBLISH
X-WR-CALNAME:Porkkalan lukio
X-ORIGINAL-URL:https://www.porkkalanlukio.fi
X-WR-CALDESC:Tapahtumat Porkkalan lukio
REFRESH-INTERVAL;VALUE=DURATION:PT1H
X-Robots-Tag:noindex
X-PUBLISHED-TTL:PT1H
BEGIN:VTIMEZONE
TZID:Europe/Helsinki
BEGIN:DAYLIGHT
TZOFFSETFROM:+0200
TZOFFSETTO:+0300
TZNAME:EEST
DTSTART:20240331T010000
END:DAYLIGHT
BEGIN:STANDARD
TZOFFSETFROM:+0300
TZOFFSETTO:+0200
TZNAME:EET
DTSTART:20241027T010000
END:STANDARD
BEGIN:DAYLIGHT
TZOFFSETFROM:+0200
TZOFFSETTO:+0300
TZNAME:EEST
DTSTART:20250330T010000
END:DAYLIGHT
BEGIN:STANDARD
TZOFFSETFROM:+0300
TZOFFSETTO:+0200
TZNAME:EET
DTSTART:20251026T010000
END:STANDARD
BEGIN:DAYLIGHT
TZOFFSETFROM:+0200
TZOFFSETTO:+0300
TZNAME:EEST
DTSTART:20260329T010000
END:DAYLIGHT
BEGIN:STANDARD
TZOFFSETFROM:+0300
TZOFFSETTO:+0200
TZNAME:EET
DTSTART:20261025T010000
END:STANDARD
BEGIN:DAYLIGHT
TZOFFSETFROM:+0200
TZOFFSETTO:+0300
TZNAME:EEST
DTSTART:20270328T010000
END:DAYLIGHT
BEGIN:STANDARD
TZOFFSETFROM:+0300
TZOFFSETTO:+0200
TZNAME:EET
DTSTART:20271031T010000
END:STANDARD
END:VTIMEZONE
BEGIN:VEVENT
DTSTART;VALUE=DATE:20251113
DTEND;VALUE=DATE:20251114
DTSTAMP:20260425T135027
CREATED:20250915T122444Z
LAST-MODIFIED:20250915T122444Z
UID:9794-1762992000-1763078399@www.porkkalanlukio.fi
SUMMARY:Ylioppilaskokeiden tulokset Wilmassa
DESCRIPTION:Tuloksia siirretään päivän aikana Wilmaan.
URL:https://www.porkkalanlukio.fi/tapahtuma/ylioppilaskokeiden-tulokset-wilmassa/
END:VEVENT
BEGIN:VEVENT
DTSTART;VALUE=DATE:20251117
DTEND;VALUE=DATE:20251126
DTSTAMP:20260425T135027
CREATED:20250603T102840Z
LAST-MODIFIED:20250603T102840Z
UID:9571-1763337600-1764115199@www.porkkalanlukio.fi
SUMMARY:2. periodin koeviikko
DESCRIPTION:p1 p2 p3 p4 p5 x x p6 p7
URL:https://www.porkkalanlukio.fi/tapahtuma/2-periodin-koeviikko/
END:VEVENT
BEGIN:VEVENT
DTSTART;VALUE=DATE:20251125
DTEND;VALUE=DATE:20251126
DTSTAMP:20260425T135027
CREATED:20250915T122611Z
LAST-MODIFIED:20250915T122611Z
UID:9796-1764028800-1764115199@www.porkkalanlukio.fi
SUMMARY:Ilmoittautuminen kevään 2026 yo-kokeisiin päättyy
DESCRIPTION:
URL:https://www.porkkalanlukio.fi/tapahtuma/ilmoittautuminen-kevaan-2026-yo-kokeisiin-paattyy/
END:VEVENT
BEGIN:VEVENT
DTSTART;VALUE=DATE:20251126
DTEND;VALUE=DATE:20251127
DTSTAMP:20260425T135027
CREATED:20250603T103331Z
LAST-MODIFIED:20250603T103331Z
UID:9579-1764115200-1764201599@www.porkkalanlukio.fi
SUMMARY:3. periodi alkaa
DESCRIPTION:Opetus: ke 26.11.2025 – to 22.1.2026
URL:https://www.porkkalanlukio.fi/tapahtuma/3-periodi-alkaa-2/
END:VEVENT
BEGIN:VEVENT
DTSTART;TZID=Europe/Helsinki:20251204T151500
DTEND;TZID=Europe/Helsinki:20251204T160000
DTSTAMP:20260425T135027
CREATED:20250915T122753Z
LAST-MODIFIED:20250915T122753Z
UID:9798-1764861300-1764864000@www.porkkalanlukio.fi
SUMMARY:Lakkiaisharjoitukset
DESCRIPTION:Muista ottaa ylioppilaslakki mukaan harjoituksiin!
URL:https://www.porkkalanlukio.fi/tapahtuma/lakkiaisharjoitukset-3/
END:VEVENT
BEGIN:VEVENT
DTSTART;TZID=Europe/Helsinki:20251205T113000
DTEND;TZID=Europe/Helsinki:20251205T130000
DTSTAMP:20260425T135027
CREATED:20250915T122838Z
LAST-MODIFIED:20251113T100153Z
UID:9800-1764934200-1764939600@www.porkkalanlukio.fi
SUMMARY:Itsenäisyys- ja ylioppilasjuhla
DESCRIPTION:  \n  \n  \n \nItsenäisyyspäivä- ja ylioppilasjuhla pe 5.12.2025 \nToivotamme tervetulleeksi syksyn ylioppilaat ja heidän perheensä Porkkalan lukion itsenäisyyspäivä- ja ylioppilasjuhlaan perjantaina 5.12. klo 11.30 Kirkkonummen koulukeskuksen D-saliin. Salin rajallisuuden takia olemme rajanneet osallistujamäärän maksimissaan kolmeen juhlavieraaseen ylioppilasta kohden. Juhla kestää maksimissaan puolitoista tuntia. \nTervetuloa!
URL:https://www.porkkalanlukio.fi/tapahtuma/itsenaisyys-ja-ylioppilasjuhla/
END:VEVENT
BEGIN:VEVENT
DTSTART;VALUE=DATE:20251209
DTEND;VALUE=DATE:20251212
DTSTAMP:20260425T135027
CREATED:20250603T103620Z
LAST-MODIFIED:20250603T103620Z
UID:9584-1765238400-1765497599@www.porkkalanlukio.fi
SUMMARY:2. periodin uusintaan ilmoittautuminen
DESCRIPTION:
URL:https://www.porkkalanlukio.fi/tapahtuma/2-periodin-uusintaan-ilmoittautuminen/
END:VEVENT
BEGIN:VEVENT
DTSTART;TZID=Europe/Helsinki:20251216T151500
DTEND;TZID=Europe/Helsinki:20251216T181500
DTSTAMP:20260425T135027
CREATED:20250603T103647Z
LAST-MODIFIED:20250603T103647Z
UID:9586-1765898100-1765908900@www.porkkalanlukio.fi
SUMMARY:2. periodin uusinta
DESCRIPTION:
URL:https://www.porkkalanlukio.fi/tapahtuma/2-periodin-uusinta/
END:VEVENT
BEGIN:VEVENT
DTSTART;VALUE=DATE:20251220
DTEND;VALUE=DATE:20251221
DTSTAMP:20260425T135027
CREATED:20250922T062258Z
LAST-MODIFIED:20250922T062258Z
UID:9804-1766188800-1766275199@www.porkkalanlukio.fi
SUMMARY:Koulupäivä
DESCRIPTION:Aikataulu tarkentuu lähempänä.
URL:https://www.porkkalanlukio.fi/tapahtuma/koulupaiva/
END:VEVENT
BEGIN:VEVENT
DTSTART;VALUE=DATE:20251222
DTEND;VALUE=DATE:20260107
DTSTAMP:20260425T135027
CREATED:20250603T103832Z
LAST-MODIFIED:20250603T103832Z
UID:9590-1766361600-1767743999@www.porkkalanlukio.fi
SUMMARY:Joululoma
DESCRIPTION:
URL:https://www.porkkalanlukio.fi/tapahtuma/joululoma-7/
END:VEVENT
BEGIN:VEVENT
DTSTART;VALUE=DATE:20260107
DTEND;VALUE=DATE:20260110
DTSTAMP:20260425T135027
CREATED:20250603T103722Z
LAST-MODIFIED:20250603T103722Z
UID:9588-1767744000-1768003199@www.porkkalanlukio.fi
SUMMARY:1. rästikoe ilmoittautuminen
DESCRIPTION:
URL:https://www.porkkalanlukio.fi/tapahtuma/1-rastikoe-ilmoittautuminen/
END:VEVENT
BEGIN:VEVENT
DTSTART;TZID=Europe/Helsinki:20260112T130000
DTEND;TZID=Europe/Helsinki:20260112T140000
DTSTAMP:20260425T135027
CREATED:20251210T073252Z
LAST-MODIFIED:20251210T073252Z
UID:10197-1768222800-1768226400@www.porkkalanlukio.fi
SUMMARY:Hakupaja korkeakouluhaku 1
DESCRIPTION:Kevään 2026 Ammattikorkeakoulujen ja yliopistojen vieraskieliset koulutukset\, Taideyliopiston koulutukset ja Tampereen yliopiston teatteritaiteen koulutus. \nHakutoiveita voi asettaa enintään kuusi (6)\, ja hakutoivejärjestyksellä ei ole väliä. \nHuom! \nAalto-yliopiston vieraskielisten hakukohteiden erillishaku: 7.1.2026-22.1.2026 klo 15.00 \nVoit hakea enintään kolmeen (3) Aalto-yliopiston vieraskielisten kandi-hakukohteiden kohteeseen\, jotka asetat mieluisuusjärjestykseen. \nVoit hakea vain yhteen Aalto-yliopiston taiteiden alan hakukohteeseen kevään 2026 hauissa. Jos haet englanninkieliseen Design and Media -hakukohteeseen\, et voi hakea Aalto-yliopiston muihin taiteiden alan hakukohteisiin kevään toisessa yhteishaussa. \nTule tekemään haku yhdessä opojen kanssa luokkaan A130.  \nOta mukaan oma läppäri  ja hakutoivelistasi. 
URL:https://www.porkkalanlukio.fi/tapahtuma/hakupaja-korkeakouluhaku-1/
END:VEVENT
BEGIN:VEVENT
DTSTART;TZID=Europe/Helsinki:20260113T151500
DTEND;TZID=Europe/Helsinki:20260113T181500
DTSTAMP:20260425T135027
CREATED:20250603T103928Z
LAST-MODIFIED:20250603T103928Z
UID:9592-1768317300-1768328100@www.porkkalanlukio.fi
SUMMARY:1. rästikoe
DESCRIPTION:
URL:https://www.porkkalanlukio.fi/tapahtuma/1-rastikoe/
END:VEVENT
BEGIN:VEVENT
DTSTART;TZID=Europe/Helsinki:20260115T133000
DTEND;TZID=Europe/Helsinki:20260115T150000
DTSTAMP:20260425T135027
CREATED:20251001T113851Z
LAST-MODIFIED:20251001T113851Z
UID:9848-1768483800-1768489200@www.porkkalanlukio.fi
SUMMARY:Lukion esittelyiltapäivä hakijoille
DESCRIPTION:
URL:https://www.porkkalanlukio.fi/tapahtuma/lukion-esittelyiltapaiva-hakijoille/
END:VEVENT
BEGIN:VEVENT
DTSTART;TZID=Europe/Helsinki:20260116T110000
DTEND;TZID=Europe/Helsinki:20260116T120000
DTSTAMP:20260425T135027
CREATED:20251210T073331Z
LAST-MODIFIED:20251210T073331Z
UID:10199-1768561200-1768564800@www.porkkalanlukio.fi
SUMMARY:Hakupaja korkeakouluhaku 1
DESCRIPTION:Kevään 2026 Ammattikorkeakoulujen ja yliopistojen vieraskieliset koulutukset\, Taideyliopiston koulutukset ja Tampereen yliopiston teatteritaiteen koulutus. \nHakutoiveita voi asettaa enintään kuusi (6)\, ja hakutoivejärjestyksellä ei ole väliä. \nHuom! \nAalto-yliopiston vieraskielisten hakukohteiden erillishaku: 7.1.2026-22.1.2026 klo 15.00 \nVoit hakea enintään kolmeen (3) Aalto-yliopiston vieraskielisten kandi-hakukohteiden kohteeseen\, jotka asetat mieluisuusjärjestykseen. \nVoit hakea vain yhteen Aalto-yliopiston taiteiden alan hakukohteeseen kevään 2026 hauissa. Jos haet englanninkieliseen Design and Media -hakukohteeseen\, et voi hakea Aalto-yliopiston muihin taiteiden alan hakukohteisiin kevään toisessa yhteishaussa. \nTule tekemään haku yhdessä opojen kanssa luokkaan A130.  \nOta mukaan oma läppäri  ja hakutoivelistasi. 
URL:https://www.porkkalanlukio.fi/tapahtuma/hakupaja-korkeakouluhaku-1-2/
END:VEVENT
BEGIN:VEVENT
DTSTART;TZID=Europe/Helsinki:20260120T133000
DTEND;TZID=Europe/Helsinki:20260120T150000
DTSTAMP:20260425T135027
CREATED:20251001T113916Z
LAST-MODIFIED:20251001T113916Z
UID:9850-1768915800-1768921200@www.porkkalanlukio.fi
SUMMARY:Lukion esittelyiltapäivä hakijoille
DESCRIPTION:
URL:https://www.porkkalanlukio.fi/tapahtuma/lukion-esittelyiltapaiva-hakijoille-2/
END:VEVENT
BEGIN:VEVENT
DTSTART;TZID=Europe/Helsinki:20260120T150000
DTEND;TZID=Europe/Helsinki:20260120T160000
DTSTAMP:20260425T135027
CREATED:20250922T064302Z
LAST-MODIFIED:20250922T064302Z
UID:9816-1768921200-1768924800@www.porkkalanlukio.fi
SUMMARY:YO-info
DESCRIPTION:
URL:https://www.porkkalanlukio.fi/tapahtuma/yo-info/
END:VEVENT
BEGIN:VEVENT
DTSTART;TZID=Europe/Helsinki:20260122T180000
DTEND;TZID=Europe/Helsinki:20260122T200000
DTSTAMP:20260425T135027
CREATED:20250922T062543Z
LAST-MODIFIED:20250922T062543Z
UID:9806-1769104800-1769112000@www.porkkalanlukio.fi
SUMMARY:Esittelyilta hakijoille ja huoltajille
DESCRIPTION:
URL:https://www.porkkalanlukio.fi/tapahtuma/esittelyilta-hakijoille-ja-huoltajille/
END:VEVENT
BEGIN:VEVENT
DTSTART;VALUE=DATE:20260123
DTEND;VALUE=DATE:20260203
DTSTAMP:20260425T135027
CREATED:20250603T103534Z
LAST-MODIFIED:20250603T103534Z
UID:9581-1769126400-1770076799@www.porkkalanlukio.fi
SUMMARY:3. periodin koeviikko
DESCRIPTION:p1 x x p2 p3 p4 p5 p6 x x p7
URL:https://www.porkkalanlukio.fi/tapahtuma/3-periodin-koeviikko/
END:VEVENT
BEGIN:VEVENT
DTSTART;TZID=Europe/Helsinki:20260202T130000
DTEND;TZID=Europe/Helsinki:20260202T140000
DTSTAMP:20260425T135027
CREATED:20260130T073014Z
LAST-MODIFIED:20260130T073344Z
UID:10305-1770037200-1770040800@www.porkkalanlukio.fi
SUMMARY:Miten valmistaudun yo-kirjoituksiin? -paja
DESCRIPTION:Luokkatila: A130
URL:https://www.porkkalanlukio.fi/tapahtuma/miten-valmistaudun-yo-kirjoituksiin-paja/
END:VEVENT
BEGIN:VEVENT
DTSTART;VALUE=DATE:20260203
DTEND;VALUE=DATE:20260204
DTSTAMP:20260425T135027
CREATED:20250603T103952Z
LAST-MODIFIED:20250603T103952Z
UID:9594-1770076800-1770163199@www.porkkalanlukio.fi
SUMMARY:4. periodi alkaa
DESCRIPTION:Opetus: ti 3.2.2026 – ti 24.3.2026
URL:https://www.porkkalanlukio.fi/tapahtuma/4-periodi-alkaa-3/
END:VEVENT
BEGIN:VEVENT
DTSTART;TZID=Europe/Helsinki:20260205T081500
DTEND;TZID=Europe/Helsinki:20260205T103000
DTSTAMP:20260425T135027
CREATED:20250922T062816Z
LAST-MODIFIED:20250922T062816Z
UID:9808-1770279300-1770287400@www.porkkalanlukio.fi
SUMMARY:Penkkarit
DESCRIPTION:
URL:https://www.porkkalanlukio.fi/tapahtuma/penkkarit-3/
END:VEVENT
BEGIN:VEVENT
DTSTART;TZID=Europe/Helsinki:20260205T180000
DTEND;TZID=Europe/Helsinki:20260205T200000
DTSTAMP:20260425T135027
CREATED:20250922T063009Z
LAST-MODIFIED:20260126T115142Z
UID:9810-1770314400-1770321600@www.porkkalanlukio.fi
SUMMARY:Wanhojen tanssit läheisille
DESCRIPTION:
URL:https://www.porkkalanlukio.fi/tapahtuma/wanhojen-tanssit-laheisille/
END:VEVENT
BEGIN:VEVENT
DTSTART;TZID=Europe/Helsinki:20260206T113000
DTEND;TZID=Europe/Helsinki:20260206T123000
DTSTAMP:20260425T135027
CREATED:20250922T063123Z
LAST-MODIFIED:20260130T074335Z
UID:9812-1770377400-1770381000@www.porkkalanlukio.fi
SUMMARY:Wanhojen tanssit
DESCRIPTION:Esitys lukiolle.
URL:https://www.porkkalanlukio.fi/tapahtuma/wanhojen-tanssit-2/
END:VEVENT
BEGIN:VEVENT
DTSTART;TZID=Europe/Helsinki:20260206T130000
DTEND;TZID=Europe/Helsinki:20260206T140000
DTSTAMP:20260425T135027
CREATED:20260130T074429Z
LAST-MODIFIED:20260130T074429Z
UID:10309-1770382800-1770386400@www.porkkalanlukio.fi
SUMMARY:Wanhojen tanssit\, näytös kutsutuille yläkouluille
DESCRIPTION:
URL:https://www.porkkalanlukio.fi/tapahtuma/wanhojen-tanssit-naytos-kutsutuille-ylakouluille/
END:VEVENT
BEGIN:VEVENT
DTSTART;VALUE=DATE:20260211
DTEND;VALUE=DATE:20260212
DTSTAMP:20260425T135027
CREATED:20260130T074534Z
LAST-MODIFIED:20260130T074534Z
UID:10307-1770768000-1770854399@www.porkkalanlukio.fi
SUMMARY:Arviointiajo 3. periodi
DESCRIPTION:
URL:https://www.porkkalanlukio.fi/tapahtuma/arviointiajo-3-periodi/
END:VEVENT
BEGIN:VEVENT
DTSTART;VALUE=DATE:20260211
DTEND;VALUE=DATE:20260214
DTSTAMP:20260425T135027
CREATED:20250603T104055Z
LAST-MODIFIED:20250922T063209Z
UID:9598-1770768000-1771027199@www.porkkalanlukio.fi
SUMMARY:3. periodin uusintaan ilmoittautuminen
DESCRIPTION:
URL:https://www.porkkalanlukio.fi/tapahtuma/3-periodin-uusintaan-ilmoittautuminen/
END:VEVENT
BEGIN:VEVENT
DTSTART;VALUE=DATE:20260216
DTEND;VALUE=DATE:20260221
DTSTAMP:20260425T135027
CREATED:20250603T104202Z
LAST-MODIFIED:20250603T104202Z
UID:9602-1771200000-1771631999@www.porkkalanlukio.fi
SUMMARY:Talviloma
DESCRIPTION:
URL:https://www.porkkalanlukio.fi/tapahtuma/talviloma-2/
END:VEVENT
BEGIN:VEVENT
DTSTART;TZID=Europe/Helsinki:20260224T151500
DTEND;TZID=Europe/Helsinki:20260224T181500
DTSTAMP:20260425T135027
CREATED:20250603T104136Z
LAST-MODIFIED:20250603T104136Z
UID:9600-1771946100-1771956900@www.porkkalanlukio.fi
SUMMARY:3. periodin uusinta
DESCRIPTION:
URL:https://www.porkkalanlukio.fi/tapahtuma/3-periodin-uusinta/
END:VEVENT
BEGIN:VEVENT
DTSTART;VALUE=DATE:20260227
DTEND;VALUE=DATE:20260228
DTSTAMP:20260425T135027
CREATED:20250922T063712Z
LAST-MODIFIED:20250922T063712Z
UID:9814-1772150400-1772236799@www.porkkalanlukio.fi
SUMMARY:Osallistumisoikeuksien tarkistaminen kevään yo-kokeisiin
DESCRIPTION:Toimita mahdolliset muualla tehdyt suoritukset opintotoimistoon tähän päivään mennessä.
URL:https://www.porkkalanlukio.fi/tapahtuma/osallistumisoikeuksien-tarkistaminen-kevaan-yo-kokeisiin/
END:VEVENT
END:VCALENDAR