BEGIN:VCALENDAR
VERSION:2.0
PRODID:-//Porkkalan lukio - ECPv6.15.20//NONSGML v1.0//EN
CALSCALE:GREGORIAN
METHOD:PUBLISH
X-ORIGINAL-URL:https://www.porkkalanlukio.fi
X-WR-CALDESC:Tapahtumat Porkkalan lukio
REFRESH-INTERVAL;VALUE=DURATION:PT1H
X-Robots-Tag:noindex
X-PUBLISHED-TTL:PT1H
BEGIN:VTIMEZONE
TZID:Europe/Helsinki
BEGIN:DAYLIGHT
TZOFFSETFROM:+0200
TZOFFSETTO:+0300
TZNAME:EEST
DTSTART:20240331T010000
END:DAYLIGHT
BEGIN:STANDARD
TZOFFSETFROM:+0300
TZOFFSETTO:+0200
TZNAME:EET
DTSTART:20241027T010000
END:STANDARD
BEGIN:DAYLIGHT
TZOFFSETFROM:+0200
TZOFFSETTO:+0300
TZNAME:EEST
DTSTART:20250330T010000
END:DAYLIGHT
BEGIN:STANDARD
TZOFFSETFROM:+0300
TZOFFSETTO:+0200
TZNAME:EET
DTSTART:20251026T010000
END:STANDARD
BEGIN:DAYLIGHT
TZOFFSETFROM:+0200
TZOFFSETTO:+0300
TZNAME:EEST
DTSTART:20260329T010000
END:DAYLIGHT
BEGIN:STANDARD
TZOFFSETFROM:+0300
TZOFFSETTO:+0200
TZNAME:EET
DTSTART:20261025T010000
END:STANDARD
END:VTIMEZONE
BEGIN:VEVENT
DTSTART;TZID=Europe/Helsinki:20250401T083000
DTEND;TZID=Europe/Helsinki:20250401T150000
DTSTAMP:20260425T183624
CREATED:20250213T072724Z
LAST-MODIFIED:20250213T072724Z
UID:9270-1743496200-1743519600@www.porkkalanlukio.fi
SUMMARY:Palkki 6
DESCRIPTION:
URL:https://www.porkkalanlukio.fi/tapahtuma/palkki-6-4/
END:VEVENT
BEGIN:VEVENT
DTSTART;TZID=Europe/Helsinki:20250402T083000
DTEND;TZID=Europe/Helsinki:20250402T150000
DTSTAMP:20260425T183624
CREATED:20250213T072750Z
LAST-MODIFIED:20250213T072750Z
UID:9272-1743582600-1743606000@www.porkkalanlukio.fi
SUMMARY:Palkki 7
DESCRIPTION:
URL:https://www.porkkalanlukio.fi/tapahtuma/palkki-7-4/
END:VEVENT
BEGIN:VEVENT
DTSTART;VALUE=DATE:20250403
DTEND;VALUE=DATE:20250404
DTSTAMP:20260425T183624
CREATED:20241028T083218Z
LAST-MODIFIED:20241028T083218Z
UID:8945-1743638400-1743724799@www.porkkalanlukio.fi
SUMMARY:5. periodi alkaa
DESCRIPTION:
URL:https://www.porkkalanlukio.fi/tapahtuma/5-periodi-alkaa-2/
END:VEVENT
BEGIN:VEVENT
DTSTART;TZID=Europe/Helsinki:20250415T100000
DTEND;TZID=Europe/Helsinki:20250417T120000
DTSTAMP:20260425T183624
CREATED:20240815T071207Z
LAST-MODIFIED:20240815T071207Z
UID:8770-1744711200-1744891200@www.porkkalanlukio.fi
SUMMARY:Ilmoittautuminen 4. periodin uusintakokeeseen
DESCRIPTION:
URL:https://www.porkkalanlukio.fi/tapahtuma/ilmoittautuminen-4-periodin-uusintakokeeseen-3/
END:VEVENT
BEGIN:VEVENT
DTSTART;VALUE=DATE:20250418
DTEND;VALUE=DATE:20250422
DTSTAMP:20260425T183624
CREATED:20250204T131444Z
LAST-MODIFIED:20250204T131444Z
UID:9220-1744934400-1745279999@www.porkkalanlukio.fi
SUMMARY:Pääsiäinen
DESCRIPTION:
URL:https://www.porkkalanlukio.fi/tapahtuma/paasiainen-3/
END:VEVENT
BEGIN:VEVENT
DTSTART;TZID=Europe/Helsinki:20250422T100000
DTEND;TZID=Europe/Helsinki:20250424T120000
DTSTAMP:20260425T183624
CREATED:20240815T071318Z
LAST-MODIFIED:20240815T071318Z
UID:8774-1745316000-1745496000@www.porkkalanlukio.fi
SUMMARY:Ilmoittautuminen ABI-rästikokeeseen
DESCRIPTION:
URL:https://www.porkkalanlukio.fi/tapahtuma/ilmoittautuminen-abi-rastikokeeseen/
END:VEVENT
BEGIN:VEVENT
DTSTART;TZID=Europe/Helsinki:20250424T150000
DTEND;TZID=Europe/Helsinki:20250424T180000
DTSTAMP:20260425T183624
CREATED:20240815T071135Z
LAST-MODIFIED:20240816T054042Z
UID:8768-1745506800-1745517600@www.porkkalanlukio.fi
SUMMARY:Uusintakoe 4. periodi
DESCRIPTION:
URL:https://www.porkkalanlukio.fi/tapahtuma/uusintakoe-4-periodi-2/
END:VEVENT
BEGIN:VEVENT
DTSTART;TZID=Europe/Helsinki:20250428T150000
DTEND;TZID=Europe/Helsinki:20250428T180000
DTSTAMP:20260425T183624
CREATED:20240815T071238Z
LAST-MODIFIED:20240816T054034Z
UID:8772-1745852400-1745863200@www.porkkalanlukio.fi
SUMMARY:ABI-rästikoe
DESCRIPTION:
URL:https://www.porkkalanlukio.fi/tapahtuma/abi-rastikoe/
END:VEVENT
BEGIN:VEVENT
DTSTART;TZID=Europe/Helsinki:20250429T100000
DTEND;TZID=Europe/Helsinki:20250501T120000
DTSTAMP:20260425T183624
CREATED:20240815T071645Z
LAST-MODIFIED:20240815T071724Z
UID:8783-1745920800-1746100800@www.porkkalanlukio.fi
SUMMARY:Ilmoittautuminen 2. rästikokeeseen (3. ja 4. periodi)
DESCRIPTION:Tässä rästikokeessa voit uusia yhden hylätyn kurssi-/opintojaksokokeen tai korottaa kurssia-/opintojaksoarvosanaa 3. tai 4. periodista.
URL:https://www.porkkalanlukio.fi/tapahtuma/ilmoittautuminen-2-rastikokeeseen-3-ja-4-periodi/
END:VEVENT
BEGIN:VEVENT
DTSTART;VALUE=DATE:20250430
DTEND;VALUE=DATE:20250501
DTSTAMP:20260425T183624
CREATED:20250124T083505Z
LAST-MODIFIED:20250124T105410Z
UID:9195-1745971200-1746057599@www.porkkalanlukio.fi
SUMMARY:Kevään 2025 valmistuvien opinnot valmiit!
DESCRIPTION:Lukion oppimäärä tulee olla merkittynä Porkkalan lukion Wilmassa viimeistään tänään.
URL:https://www.porkkalanlukio.fi/tapahtuma/kevaan-2025-valmistuvien-opinnot-valmiit/
END:VEVENT
BEGIN:VEVENT
DTSTART;VALUE=DATE:20250501
DTEND;VALUE=DATE:20250502
DTSTAMP:20260425T183624
CREATED:20250204T133829Z
LAST-MODIFIED:20250204T133829Z
UID:9222-1746057600-1746143999@www.porkkalanlukio.fi
SUMMARY:Vappu
DESCRIPTION:
URL:https://www.porkkalanlukio.fi/tapahtuma/vappu-2/
END:VEVENT
BEGIN:VEVENT
DTSTART;TZID=Europe/Helsinki:20250505T150000
DTEND;TZID=Europe/Helsinki:20250505T180000
DTSTAMP:20260425T183624
CREATED:20240815T071354Z
LAST-MODIFIED:20240816T054022Z
UID:8777-1746457200-1746468000@www.porkkalanlukio.fi
SUMMARY:Lukuvuoden 2. rästikoe
DESCRIPTION:muut opiskelijat paitsi keväällä 2024 valmistuvat
URL:https://www.porkkalanlukio.fi/tapahtuma/rastikoe-5/
END:VEVENT
BEGIN:VEVENT
DTSTART;VALUE=DATE:20250514
DTEND;VALUE=DATE:20250515
DTSTAMP:20260425T183624
CREATED:20250121T133755Z
LAST-MODIFIED:20250514T070524Z
UID:9175-1747180800-1747267199@www.porkkalanlukio.fi
SUMMARY:Yo-tulokset tulevat koululle
DESCRIPTION:Paljon onnea kevään 2025 ylioppilaille!
URL:https://www.porkkalanlukio.fi/tapahtuma/yo-tulokset-tulevat-koululle/
END:VEVENT
BEGIN:VEVENT
DTSTART;VALUE=DATE:20250520
DTEND;VALUE=DATE:20250529
DTSTAMP:20260425T183624
CREATED:20241028T083307Z
LAST-MODIFIED:20250507T071053Z
UID:8947-1747699200-1748476799@www.porkkalanlukio.fi
SUMMARY:5. periodin koeviikko
DESCRIPTION:
URL:https://www.porkkalanlukio.fi/tapahtuma/koeviikko-alkaa-3/
END:VEVENT
BEGIN:VEVENT
DTSTART;TZID=Europe/Helsinki:20250520T090000
DTEND;TZID=Europe/Helsinki:20250520T150000
DTSTAMP:20260425T183624
CREATED:20250507T065245Z
LAST-MODIFIED:20250507T065245Z
UID:9395-1747731600-1747753200@www.porkkalanlukio.fi
SUMMARY:Palkki 1
DESCRIPTION:
URL:https://www.porkkalanlukio.fi/tapahtuma/palkki-1-5/
END:VEVENT
BEGIN:VEVENT
DTSTART;TZID=Europe/Helsinki:20250521T090000
DTEND;TZID=Europe/Helsinki:20250521T150000
DTSTAMP:20260425T183624
CREATED:20250507T065310Z
LAST-MODIFIED:20250507T065310Z
UID:9397-1747818000-1747839600@www.porkkalanlukio.fi
SUMMARY:Palkki 2
DESCRIPTION:
URL:https://www.porkkalanlukio.fi/tapahtuma/palkki-2-5/
END:VEVENT
BEGIN:VEVENT
DTSTART;TZID=Europe/Helsinki:20250522T090000
DTEND;TZID=Europe/Helsinki:20250522T150000
DTSTAMP:20260425T183624
CREATED:20250507T065324Z
LAST-MODIFIED:20250507T065324Z
UID:9399-1747904400-1747926000@www.porkkalanlukio.fi
SUMMARY:Palkki 3
DESCRIPTION:
URL:https://www.porkkalanlukio.fi/tapahtuma/palkki-3-5/
END:VEVENT
BEGIN:VEVENT
DTSTART;TZID=Europe/Helsinki:20250523T090000
DTEND;TZID=Europe/Helsinki:20250523T150000
DTSTAMP:20260425T183624
CREATED:20250507T065638Z
LAST-MODIFIED:20250507T065638Z
UID:9401-1747990800-1748012400@www.porkkalanlukio.fi
SUMMARY:Palkki 4
DESCRIPTION:
URL:https://www.porkkalanlukio.fi/tapahtuma/palkki-4-5/
END:VEVENT
BEGIN:VEVENT
DTSTART;TZID=Europe/Helsinki:20250526T090000
DTEND;TZID=Europe/Helsinki:20250526T150000
DTSTAMP:20260425T183624
CREATED:20250507T065841Z
LAST-MODIFIED:20250507T065841Z
UID:9403-1748250000-1748271600@www.porkkalanlukio.fi
SUMMARY:Palkki 5
DESCRIPTION:
URL:https://www.porkkalanlukio.fi/tapahtuma/palkki-5-5/
END:VEVENT
BEGIN:VEVENT
DTSTART;VALUE=DATE:20250527
DTEND;VALUE=DATE:20250528
DTSTAMP:20260425T183624
CREATED:20250124T083750Z
LAST-MODIFIED:20250124T084018Z
UID:9197-1748304000-1748390399@www.porkkalanlukio.fi
SUMMARY:Ilmoittautuminen syksyn 2025 yo-kokeisiin päättyy
DESCRIPTION:Porkkalan lukiosta valmistuneiden (myös keväällä 2025 valmistuvat) viimeinen päivä ilmoittautua syksyn 2025 yo-kokeisiin. Ilmoittautumislomake löytyy kotisivujen linkit -osiosta.
URL:https://www.porkkalanlukio.fi/tapahtuma/ilmoittautuminen-syksyn-2025-yo-kokeisiin-paattyy/
END:VEVENT
BEGIN:VEVENT
DTSTART;TZID=Europe/Helsinki:20250527T090000
DTEND;TZID=Europe/Helsinki:20250527T150000
DTSTAMP:20260425T183624
CREATED:20250507T065858Z
LAST-MODIFIED:20250507T065858Z
UID:9405-1748336400-1748358000@www.porkkalanlukio.fi
SUMMARY:Palkki 6
DESCRIPTION:
URL:https://www.porkkalanlukio.fi/tapahtuma/palkki-6-5/
END:VEVENT
BEGIN:VEVENT
DTSTART;TZID=Europe/Helsinki:20250528T090000
DTEND;TZID=Europe/Helsinki:20250528T150000
DTSTAMP:20260425T183624
CREATED:20250507T065917Z
LAST-MODIFIED:20250507T065917Z
UID:9407-1748422800-1748444400@www.porkkalanlukio.fi
SUMMARY:Palkki 7
DESCRIPTION:
URL:https://www.porkkalanlukio.fi/tapahtuma/palkki-7-5/
END:VEVENT
BEGIN:VEVENT
DTSTART;TZID=Europe/Helsinki:20250528T130000
DTEND;TZID=Europe/Helsinki:20250528T150000
DTSTAMP:20260425T183624
CREATED:20250527T092154Z
LAST-MODIFIED:20250527T092154Z
UID:9483-1748437200-1748444400@www.porkkalanlukio.fi
SUMMARY:Jalkapallo-ottelu: Porkkalan lukio vastaan Kyrkslätts gymnasium
DESCRIPTION:
URL:https://www.porkkalanlukio.fi/tapahtuma/jalkapallo-ottelu-porkkalan-lukio-vastaan-kyrkslatts-gymnasium/
END:VEVENT
BEGIN:VEVENT
DTSTART;VALUE=DATE:20250529
DTEND;VALUE=DATE:20250530
DTSTAMP:20260425T183624
CREATED:20250205T064004Z
LAST-MODIFIED:20250205T064004Z
UID:9224-1748476800-1748563199@www.porkkalanlukio.fi
SUMMARY:Helatorstai
DESCRIPTION:
URL:https://www.porkkalanlukio.fi/tapahtuma/helatorstai-3/
END:VEVENT
BEGIN:VEVENT
DTSTART;TZID=Europe/Helsinki:20250530T100000
DTEND;TZID=Europe/Helsinki:20250530T133000
DTSTAMP:20260425T183624
CREATED:20250527T080558Z
LAST-MODIFIED:20250527T080558Z
UID:9481-1748599200-1748611800@www.porkkalanlukio.fi
SUMMARY:Kesälomaan vastaanottaminen
DESCRIPTION:– 10-11.20 pesistä tekonurmella\n– 11:30 ro-tunti ykkösille ja kakkosille\n– 12:05-12:45 ruokailu\, Porkkalan lukio vain punaisessa ruokalassa\n– 12:45 lukuvuoden päätösjuhla/kevätlaulajaiset D-salissa\, kesto enintään 45 min
URL:https://www.porkkalanlukio.fi/tapahtuma/kesalomaan-vastaanottaminen/
END:VEVENT
BEGIN:VEVENT
DTSTART;TZID=Europe/Helsinki:20250530T150000
DTEND;TZID=Europe/Helsinki:20250530T163000
DTSTAMP:20260425T183624
CREATED:20250124T083848Z
LAST-MODIFIED:20250124T083848Z
UID:9199-1748617200-1748622600@www.porkkalanlukio.fi
SUMMARY:Lakkiaisharjoitus
DESCRIPTION:Lakki mukaan nimellä varustettuna
URL:https://www.porkkalanlukio.fi/tapahtuma/lakkiaisharjoitus-2/
END:VEVENT
BEGIN:VEVENT
DTSTART;TZID=Europe/Helsinki:20250531T113000
DTEND;TZID=Europe/Helsinki:20250531T133000
DTSTAMP:20260425T183624
CREATED:20250124T084111Z
LAST-MODIFIED:20250514T102158Z
UID:9201-1748691000-1748698200@www.porkkalanlukio.fi
SUMMARY:Kevään 2025 yo-juhla klo 11.30
DESCRIPTION:Max 3 vierasta/lakitettava.
URL:https://www.porkkalanlukio.fi/tapahtuma/kevaan-2025-yo-juhla/
END:VEVENT
BEGIN:VEVENT
DTSTART;VALUE=DATE:20250612
DTEND;VALUE=DATE:20250613
DTSTAMP:20260425T183624
CREATED:20250603T081308Z
LAST-MODIFIED:20250603T081308Z
UID:9495-1749686400-1749772799@www.porkkalanlukio.fi
SUMMARY:Yhteishaun tulokset
DESCRIPTION:
URL:https://www.porkkalanlukio.fi/tapahtuma/yhteishaun-tulokset/
END:VEVENT
BEGIN:VEVENT
DTSTART;VALUE=DATE:20250807
DTEND;VALUE=DATE:20250808
DTSTAMP:20260425T183624
CREATED:20250603T101735Z
LAST-MODIFIED:20250804T074354Z
UID:9528-1754524800-1754611199@www.porkkalanlukio.fi
SUMMARY:1. periodi alkaa
DESCRIPTION:Opetus: to 7.8.2025 – ke 17.9.2025 \n— \nKoulu alkaa:\n1. vuoden opsikelijat klo 9.00\, auditorio. ALLEKIRJOITETTU LÄPPÄRISOPIMUS MUKAAN!\nvanhemmat opiskelijat klo 10.00\, kotiluokat. LÄPPÄRIT MUKAAN!
URL:https://www.porkkalanlukio.fi/tapahtuma/1-periodi-alkaa/
END:VEVENT
BEGIN:VEVENT
DTSTART;VALUE=DATE:20250812
DTEND;VALUE=DATE:20250815
DTSTAMP:20260425T183624
CREATED:20250603T102707Z
LAST-MODIFIED:20250603T102707Z
UID:9565-1754956800-1755215999@www.porkkalanlukio.fi
SUMMARY:5. periodin uusintaan ilmoittautuminen
DESCRIPTION:
URL:https://www.porkkalanlukio.fi/tapahtuma/5-periodin-uusintaan-ilmoittautuminen/
END:VEVENT
END:VCALENDAR